BEGIN:VCALENDAR
VERSION:2.0
PRODID:-//www.brotherhoodsoftball.com//iCal Event Maker
X-WR-TIMEZONE:America/New_York
BEGIN:VEVENT
DTSTAMP:20140416T223543Z
UID:469
DTSTART;TZID=America/New_York:20260503T110000
DTEND;TZID=America/New_York:20260503T123000
SUMMARY:Ambers vs Rubies
DESCRIPTION:
LOCATION:B2
END:VEVENT
BEGIN:VEVENT
DTSTAMP:20140416T223543Z
UID:470
DTSTART;TZID=America/New_York:20260510T080000
DTEND;TZID=America/New_York:20260510T093000
SUMMARY:Ambers vs Emeralds
DESCRIPTION:
LOCATION:B1
END:VEVENT
BEGIN:VEVENT
DTSTAMP:20140416T223543Z
UID:479
DTSTART;TZID=America/New_York:20260524T093000
DTEND;TZID=America/New_York:20260524T110000
SUMMARY:Opals vs Ambers
DESCRIPTION:
LOCATION:B2
END:VEVENT
BEGIN:VEVENT
DTSTAMP:20140416T223543Z
UID:482
DTSTART;TZID=America/New_York:20260531T080000
DTEND;TZID=America/New_York:20260531T093000
SUMMARY:Ambers vs Amethysts
DESCRIPTION:
LOCATION:B1
END:VEVENT
BEGIN:VEVENT
DTSTAMP:20140416T223543Z
UID:489
DTSTART;TZID=America/New_York:20260607T080000
DTEND;TZID=America/New_York:20260607T093000
SUMMARY:Ambers vs Jades
DESCRIPTION:
LOCATION:B2
END:VEVENT
BEGIN:VEVENT
DTSTAMP:20140416T223543Z
UID:499
DTSTART;TZID=America/New_York:20260614T110000
DTEND;TZID=America/New_York:20260614T123000
SUMMARY:Emeralds vs Ambers
DESCRIPTION:
LOCATION:D2
END:VEVENT
BEGIN:VEVENT
DTSTAMP:20140416T223543Z
UID:502
DTSTART;TZID=America/New_York:20260621T093000
DTEND;TZID=America/New_York:20260621T110000
SUMMARY:Ambers vs Opals
DESCRIPTION:
LOCATION:D2
END:VEVENT
BEGIN:VEVENT
DTSTAMP:20140416T223543Z
UID:511
DTSTART;TZID=America/New_York:20260628T110000
DTEND;TZID=America/New_York:20260628T123000
SUMMARY:Ambers vs Rubies
DESCRIPTION:
LOCATION:B2
END:VEVENT
BEGIN:VEVENT
DTSTAMP:20140416T223543Z
UID:516
DTSTART;TZID=America/New_York:20260705T110000
DTEND;TZID=America/New_York:20260705T123000
SUMMARY:Jades vs Ambers
DESCRIPTION:
LOCATION:B1
END:VEVENT
BEGIN:VEVENT
DTSTAMP:20140416T223543Z
UID:519
DTSTART;TZID=America/New_York:20260712T080000
DTEND;TZID=America/New_York:20260712T093000
SUMMARY:Amethysts vs Ambers
DESCRIPTION:
LOCATION:B2
END:VEVENT
BEGIN:VEVENT
DTSTAMP:20140416T223543Z
UID:526
DTSTART;TZID=America/New_York:20260726T093000
DTEND;TZID=America/New_York:20260726T110000
SUMMARY:Emeralds vs Ambers
DESCRIPTION:
LOCATION:B1
END:VEVENT
BEGIN:VEVENT
DTSTAMP:20140416T223543Z
UID:533
DTSTART;TZID=America/New_York:20260809T093000
DTEND;TZID=America/New_York:20260809T110000
SUMMARY:Rubies vs Ambers
DESCRIPTION:
LOCATION:B2
END:VEVENT
BEGIN:VEVENT
DTSTAMP:20140416T223543Z
UID:536
DTSTART;TZID=America/New_York:20260816T080000
DTEND;TZID=America/New_York:20260816T093000
SUMMARY:Opals vs Ambers
DESCRIPTION:
LOCATION:B1
END:VEVENT
BEGIN:VEVENT
DTSTAMP:20140416T223543Z
UID:547
DTSTART;TZID=America/New_York:20260830T110000
DTEND;TZID=America/New_York:20260830T123000
SUMMARY:Ambers vs Amethysts
DESCRIPTION:
LOCATION:D3
END:VEVENT
END:VCALENDAR
